BEGIN:VCALENDAR
PRODID:NingEventWidget-v1
VERSION:2.0
METHOD:PUBLISH
BEGIN:VEVENT
UID:5167423:Event:23181
DTSTAMP:20260423T100815Z
SUMMARY:Hagerstown Speedway, June 15
DESCRIPTION:The Hagerstown Speedway will host Breast Cancer Awareness 
 night this Saturday, June 15. \nThe Late Model Sportsman will be “T
 OPLESS” in a special event.  It will be the Hoosier Daddy $1000 to 
 win feature,  with a $1000 Cash Bonus from supporters of Tyler Horst.
   Adding to the excitement at the Capitol of Dirt Track Racing will b
 e the  Pure Stocks and Hobby Stocks. FREE ADMISSION TO ALL BREAST CAN
 CER SURVIVORS  --WEAR YOUR PINK IN SUPPORT!!!!!!  Gates Open at 5 P.
 M. Racing begins at 7 P.M.\n\nFor more information visit https://north
 eastwheelsevents.com/events/hagerstown-speedway-june-15
DTSTART:20130615T210000Z
DTEND:20130616T034500Z
CATEGORIES:dirt, track, racing
LOCATION:Rt 40, 5 mile west of Hagerstown, MD
WEBSITE:http://hagerstownspeedway.com
URL:http://hagerstownspeedway.com
CONTACT:301-582-0640
ORGANIZER;CN="Calvin Forsythe":https://northeastwheelsevents.com/profi
 le/CalvinForsythe
ATTACH;FMTTYPE="image/jpeg":
ATTENDEE;ROLE=REQ-PARTICIPANT;PARTSTAT=ACCEPTED;RSVP=TRUE;CN="Calvin F
 orsythe":https://northeastwheelsevents.com/profile/CalvinForsythe
END:VEVENT
END:VCALENDAR
