BEGIN:VCALENDAR
PRODID:NingEventWidget-v1
VERSION:2.0
METHOD:PUBLISH
BEGIN:VEVENT
UID:5167423:Event:23764
DTSTAMP:20260423T012506Z
SUMMARY:Hagerstown Speedway this weekend.
DESCRIPTION:The Hagerstown Speedway will be in action on Friday night 
 June 21.  See the late models in the Hoosier Tire Winchester/Hagersto
 wn 35 lap Shootout, plus a 30 lap RUSH Crate Late Model event...  All
  Law Enforcement/Detention Officers Free Admission.\nAnd don’t forge
 t; get your tickets for Dukes Family Festival, on Saturday June 22.  
 Gates open at 9:00 AM  See five original cast members, get autographs
 , music, car show, magician, kids’ activities, stunt show, wrestling
  and much more.  Bring your lawn chairs.\nGet  news, results and mor
 e at www.hagerstownspeedway.com.  Follow us on twitter and Facebook.
    Located 6 miles west of Hagerstown on Route 40.  Where the Dirt
 ’s On Fire”\n\nFor more information visit https://northeastwheelse
 vents.com/events/hagerstown-speedway-this-weekend
DTSTART:20130621T210000Z
DTEND:20130622T210000Z
CATEGORIES:dirt, track, racing, and, dukes, family, festival
LOCATION:hagerstown Speedway
WEBSITE:http://hagerstownspeedway.com
URL:http://hagerstownspeedway.com
CONTACT:301-582-0640
ORGANIZER;CN="Calvin Forsythe":https://northeastwheelsevents.com/profi
 le/CalvinForsythe
ATTACH;FMTTYPE="image/jpeg":
ATTENDEE;ROLE=REQ-PARTICIPANT;PARTSTAT=ACCEPTED;RSVP=TRUE;CN="Calvin F
 orsythe":https://northeastwheelsevents.com/profile/CalvinForsythe
END:VEVENT
END:VCALENDAR
