BEGIN:VCALENDAR
PRODID:NingEventWidget-v1
VERSION:2.0
METHOD:PUBLISH
BEGIN:VEVENT
UID:5167423:Event:24074
DTSTAMP:20260422T060307Z
SUMMARY:Hagerstown Speedway, Wednesday July 3rd
DESCRIPTION:On Wednesday night July 3, join us for PA Speedweek 410 Sp
 rints.  You will not want to miss the  winged super sprints take on 
 the high banked ½ mile clay oval at the Hagerstown Speedway. They wil
 l be joined by the Eastern Museum of  Motor Racing Vintage Racers.  
 Gates open at 5pm with racing at 7:30 pm.\nHagerstown Speedway is loca
 ted 6 miles west of Hagerstown on Route 40.\nVisit www.hagerstownspeed
 way.com.  “Where the Dirt’s on Fire”.\n\nFor more information v
 isit https://northeastwheelsevents.com/events/hagerstown-speedway-wedn
 esday-july-3rd
DTSTART:20130703T210000Z
DTEND:20130704T034500Z
CATEGORIES:sprint, car, racing
LOCATION:Rt 40 west of Hagerstown MD
WEBSITE:http://hagerstownspeedway.com
URL:http://hagerstownspeedway.com
CONTACT:301-582-0640
ORGANIZER;CN="Calvin Forsythe":https://northeastwheelsevents.com/profi
 le/CalvinForsythe
ATTACH;FMTTYPE="image/jpeg":
ATTENDEE;ROLE=REQ-PARTICIPANT;PARTSTAT=ACCEPTED;RSVP=TRUE;CN="Calvin F
 orsythe":https://northeastwheelsevents.com/profile/CalvinForsythe
END:VEVENT
END:VCALENDAR
