BEGIN:VCALENDAR
PRODID:NingEventWidget-v1
VERSION:2.0
METHOD:PUBLISH
BEGIN:VEVENT
UID:5167423:Event:22702
DTSTAMP:20260424T163559Z
SUMMARY:Hagerstown Speedway
DESCRIPTION:Saturday June 1st, THE HAGERSTOWN SPEEDWAY presents the\nA
 PPALACHIAN MOUNTAIN LATE MODEL SPEED WEEK, LATE MODELS OPEN plus Pure 
 Stock Special and Pure Stock MAKE UP FEATURE FROM 5/18\n \n \n\nFor 
 more information visit https://northeastwheelsevents.com/events/hagers
 town-speedway
DTSTART:20130601T230000Z
DTEND:20130602T034500Z
CATEGORIES:dirt, track, racing
LOCATION:Hagerstown Speedway
WEBSITE:http://hagerstownspeedway.com
URL:http://hagerstownspeedway.com
CONTACT:301-582-0640
ORGANIZER;CN="Calvin Forsythe":https://northeastwheelsevents.com/profi
 le/CalvinForsythe
ATTACH;FMTTYPE="image/jpeg":
ATTENDEE;ROLE=REQ-PARTICIPANT;PARTSTAT=ACCEPTED;RSVP=TRUE;CN="Calvin F
 orsythe":https://northeastwheelsevents.com/profile/CalvinForsythe
END:VEVENT
END:VCALENDAR
