BEGIN:VCALENDAR
PRODID:NingEventWidget-v1
VERSION:2.0
METHOD:PUBLISH
BEGIN:VEVENT
UID:5167423:Event:40469
DTSTAMP:20260422T060307Z
SUMMARY:Hamburg Arts Fest & Car Show
DESCRIPTION:Please call with questions and information on how to regis
 ter.\n\nFor more information visit https://northeastwheelsevents.com/e
 vents/hamburg-arts-fest-car-show
DTSTART:20150516T040000Z
DTEND:20150517T035900Z
CATEGORIES:car, show, all, cars, "&", trucks, "welcome!"
LOCATION:Downtown Hamburg
WEBSITE:http://www.hamburgpa.org
URL:http://www.hamburgpa.org
CONTACT:610-562-4332
ORGANIZER;CN="Chris Yost":https://northeastwheelsevents.com/profile/Ch
 risYost
ATTACH;FMTTYPE="image/jpeg":
ATTENDEE;ROLE=REQ-PARTICIPANT;PARTSTAT=ACCEPTED;RSVP=TRUE;CN="Chris Yo
 st":https://northeastwheelsevents.com/profile/ChrisYost
END:VEVENT
END:VCALENDAR
