BEGIN:VCALENDAR
PRODID:NingEventWidget-v1
VERSION:2.0
METHOD:PUBLISH
BEGIN:VEVENT
UID:5167423:Event:45205
DTSTAMP:20260422T203641Z
SUMMARY:Happy Days Car Show
DESCRIPTION:Quality Entertainment is hosting a Car and Motorcycle Show
  at the Middlesex County Fairground in East Brunswick NJ starting June
  2,2014 thru June 8, 2014. There will be rides, nightly live entertain
 ment, food vendors, and lots of fun for the whole family! Come out and
  display your pride and joy or if your looking to sell. We are current
 ly still booking vendors for this event space is limited. Please cont
 act Dana at (908)205-8106 or qualityentertainment393@yahoo.com. You ca
 n also visit our website  at www.happydaysfair.com\n\nFor more inform
 ation visit https://northeastwheelsevents.com/events/happy-days-car-sh
 ow
DTSTART:20140602T150000Z
DTEND:20140609T030000Z
CATEGORIES:car, show
LOCATION:Middlesex County Fairground
WEBSITE:http://www.happydaysfair.com
URL:http://www.happydaysfair.com
CONTACT:908-205-8106
ORGANIZER;CN="Dana Cooper":https://northeastwheelsevents.com/profile/D
 anaCooper
ATTACH;FMTTYPE="image/jpeg":http://storage.ning.com/topology/rest/1.0/
 file/get/2284062825?profile=original
ATTENDEE;ROLE=REQ-PARTICIPANT;PARTSTAT=ACCEPTED;RSVP=TRUE;CN="Dana Coo
 per":https://northeastwheelsevents.com/profile/DanaCooper
END:VEVENT
END:VCALENDAR
