BEGIN:VCALENDAR
PRODID:NingEventWidget-v1
VERSION:2.0
METHOD:PUBLISH
BEGIN:VEVENT
UID:5167423:Event:159657
DTSTAMP:20260422T214558Z
SUMMARY:Harrisburg 2017 Mecum Auctions
DESCRIPTION:Collector car, bike and automobila auction\n\nFor more inf
 ormation visit https://northeastwheelsevents.com/events/harrisburg-201
 7-mecum-auctions
DTSTART:20170803T120000Z
DTEND:20170805T210000Z
CATEGORIES:auction
LOCATION:Harrisburg Farm Show Complex
WEBSITE:https://www.mecum.com/auctions/harrisburg-2017/lots/collector-
 cars/08/05/
URL:https://www.mecum.com/auctions/harrisburg-2017/lots/collector-cars
 /08/05/
CONTACT:(262) 275-5050
ORGANIZER:Mecum Auctions 445 South Main Street Walworth, WI, 53184-953
 6 U.S.A.
ATTACH;FMTTYPE="image/jpeg":http://storage.ning.com/topology/rest/1.0/
 file/get/2284101096?profile=original
ATTENDEE;ROLE=REQ-PARTICIPANT;PARTSTAT=ACCEPTED;RSVP=TRUE;CN="Alex Mar
 tin":https://northeastwheelsevents.com/profile/Alexmartin
END:VEVENT
END:VCALENDAR
