BEGIN:VCALENDAR
PRODID:NingEventWidget-v1
VERSION:2.0
METHOD:PUBLISH
BEGIN:VEVENT
UID:5167423:Event:321243
DTSTAMP:20260422T170636Z
SUMMARY:Hartwick Highlands Campgrounds 3rd Annual Cruise-In Car Show
DESCRIPTION:Hartwick Highlands Campgrounds 3rd Annual Cruise- In Car S
 how. Saturday, September 16, 2023, 10am-3pm, Rain Date, Sunday 17. At 
 131 Burke Hill Road,  Milford, NY 13807  $10 show car registration. 
 1/2 proceeds will benefit SQSPCA.org. Vendors welcome! Food and Music!
  50/50 and door prizes! Unigue Custom Made Trophies! Fun for the whole
  family! Still some campsites and cabins available, contact me for det
 ails. Camping@hhcg1.com  www.hartwickhighlandscg.com, 607-547-1996 A 
 great place for a car show! \n\nFor more information visit https://no
 rtheastwheelsevents.com/events/hartwick-highlands-campgrounds-3rd-annu
 al-cruise-in-car-show
DTSTART:20230916T140000Z
DTEND:20230916T190000Z
CATEGORIES:car, show, cruise, in, fundraiser
LOCATION:Hartwick Highlands Campground
WEBSITE:https://m.facebook.com/events/692180516087643
URL:https://m.facebook.com/events/692180516087643
CONTACT:607-557-1996
ORGANIZER:Scott E. Gray
ATTACH;FMTTYPE="image/jpeg":https://storage.ning.com/topology/rest/1.0
 /file/get/12222899694?profile=original
ATTENDEE;ROLE=REQ-PARTICIPANT;PARTSTAT=ACCEPTED;RSVP=TRUE;CN="William 
 Bruce":https://northeastwheelsevents.com/profile/WilliamBruce
END:VEVENT
END:VCALENDAR
