BEGIN:VCALENDAR
PRODID:NingEventWidget-v1
VERSION:2.0
METHOD:PUBLISH
BEGIN:VEVENT
UID:5167423:Event:281776
DTSTAMP:20260419T182749Z
SUMMARY:Hatboro Cruiser's Aprils First Friday Cruise Nights
DESCRIPTION:Its our 11th year of Cruise night summer fun! Such nice bi
 g light up parking lots with so many new amenities to choose from at o
 ur new location - award winning BBQ, Salads, Burgers, Pizza, Dinners o
 r Snacks along with plenty of retail stores to shop. For the kids ther
 e will be a jar filled with Matchbox cars and whomever guesses the cor
 rect amount of cars in the jar will receive a $100.00 gift card prize 
 a with other many surprises for ALL to enjoy.So Come on out and enjoy 
 our First Friday Cruise Nights with some beautiful cars, trucks and bi
 kes with some great car people! Catch up with some old friends and mak
 e some new ones!Corona Virus has changed life for all of us- Please re
 member to keep up the SOCIAL DISTANCING and PLEASE WEAR A MASK when yo
 u are shopping, away from your group or less than 6 feet from stranger
 s.Lets all have some fun and remember its our first one this year!Rain
  date this month is SaturdayPLEASE NO BURNOUTSFamily Friendly Eventand
  PLEASE Be respectful of PEOPLE and their VEHICLES!\n\nFor more inform
 ation visit https://northeastwheelsevents.com/events/hatboro-cruiser-s
 -aprils-first-friday-cruise-nights
DTSTART:20210402T200000Z
DTEND:20210402T230000Z
CATEGORIES:cruise, night
LOCATION:Two back parking lots at The Shops at Valley Square
WEBSITE:
URL:
CONTACT:2156017562
ORGANIZER:Hatboro Cruiser's and Adrienne Fisher
ATTACH;FMTTYPE="image/jpeg":https://storage.ning.com/topology/rest/1.0
 /file/get/8412966073?profile=original
ATTENDEE;ROLE=REQ-PARTICIPANT;PARTSTAT=ACCEPTED;RSVP=TRUE;CN="Adrienne
  Fisher":https://northeastwheelsevents.com/profile/AdrienneFisher
ATTENDEE;ROLE=REQ-PARTICIPANT;PARTSTAT=TENTATIVE;RSVP=TRUE;CN="Amy Rus
 sell-Braccia":https://northeastwheelsevents.com/profile/AmyRussellBrac
 cia
ATTENDEE;ROLE=REQ-PARTICIPANT;PARTSTAT=TENTATIVE;RSVP=TRUE;CN="Shaun C
 ampbell":https://northeastwheelsevents.com/profile/C
END:VEVENT
END:VCALENDAR
