BEGIN:VCALENDAR
PRODID:NingEventWidget-v1
VERSION:2.0
METHOD:PUBLISH
BEGIN:VEVENT
UID:5167423:Event:335460
DTSTAMP:20260424T015925Z
SUMMARY:Haunted Cars & Coffee
DESCRIPTION:\r\n\r\n\r\nCars & Coffee\r\n\r\n\r\n\r\n\r\n\r\n\r\n\r\n\
 r\n\r\n\r\nWe are a group of car enthusiasts who like to get together 
 every other Sunday for a few hours to appreciate each others rides. Ou
 r motto... \"If it has wheels, bring it!\" ... and we like dogs too! T
 his is not a car show, there isn't a cut off year and all are welcome 
 so bring your bike, truck, tractor...whatever.The Perkins Family Farm 
 will be serving up their famous egg sandwiches and freshly brewed coff
 ee. We ask for a minimum of $2 per car/spectator (but you can always g
 ive more).This weeks gate collection will go to the Apple Pi Robotics 
 Team.Our friends at Coppola Customs are hosting a cars and coffee afte
 r ours from 11-2pm in Branford in Remembrance of Mark Palumbo Jr. Chec
 k out their page for more details.And remember... WE DO NOT COLLECT MO
 NEY ONLINE SO BEWARE OF THE SCAMMERS ASKING YOU TO MESSAGE THEM.No bur
 noutsNo excessive engine revvingNo speeding to and from the eventNo Le
 aving Cigarettes on the groundLooking forward to seeing your rides!\r\
 nhttps://www.moroso.com/\r\n\r\n\r\n\r\n\r\n\r\n\r\n\n\nFor more infor
 mation visit https://northeastwheelsevents.com/events/haunted-cars-cof
 fee
DTSTART:20241027T130000Z
DTEND:20241027T150000Z
CATEGORIES:cruisein, charity
LOCATION:Moroso Performance Products, Inc..
WEBSITE:https://allevents.in/guilford/cars-and-coffee/200027373930400
URL:https://allevents.in/guilford/cars-and-coffee/200027373930400
CONTACT:(203) 453 6571
ORGANIZER:Moroso Performance Products, Inc.
ATTACH;FMTTYPE="image/jpeg":https://storage.ning.com/topology/rest/1.0
 /file/get/13036401892?profile=original
ATTENDEE;ROLE=REQ-PARTICIPANT;PARTSTAT=ACCEPTED;RSVP=TRUE;CN="William 
 Bruce":https://northeastwheelsevents.com/profile/WilliamBruce
END:VEVENT
END:VCALENDAR
