BEGIN:VCALENDAR
PRODID:NingEventWidget-v1
VERSION:2.0
METHOD:PUBLISH
BEGIN:VEVENT
UID:5167423:Event:69400
DTSTAMP:20260421T075030Z
SUMMARY:Hay Creek Claasic: Car and Bike Show
DESCRIPTION:Flier%20-%20good.pdf\n\nVETERAN Appreciation ceremonies/Pa
 rade\nRockabilly Band - Awesome entertainment\n20 awards given - great
  family fun for all ages\nfree admission; $15 PER VEHICLE PRE- REGISTR
 ATION $20 at the door.\nBreakfast Buffet 7am-11pm $9pp\nChicken bbq - 
 12-2pm\nSee attachment for details.\n\nBenefits Hay Creek Valley Histo
 rical Association and Keystone Iron Warriors\n\nFor more information v
 isit https://northeastwheelsevents.com/events/hay-creek-claasic-car-an
 d-bike-show
DTSTART:20150620T110000Z
DTEND:20150620T190000Z
CATEGORIES:fundraiser, -, veterans
LOCATION:located in Berks County, Pennsylvania along Route 10 about 2.
 5 miles north of exit 22 (Morgantown) of the Pennsylvania Turnpike.
WEBSITE:http://www.haycreek.org
URL:http://www.haycreek.org
CONTACT:610-286-0388
ORGANIZER;CN="JENIFER SPARR":https://northeastwheelsevents.com/profile
 /JENIFERSPARR
ATTACH;FMTTYPE="image/jpeg":
ATTENDEE;ROLE=REQ-PARTICIPANT;PARTSTAT=ACCEPTED;RSVP=TRUE;CN="JENIFER 
 SPARR":https://northeastwheelsevents.com/profile/JENIFERSPARR
END:VEVENT
END:VCALENDAR
