BEGIN:VCALENDAR
PRODID:NingEventWidget-v1
VERSION:2.0
METHOD:PUBLISH
BEGIN:VEVENT
UID:5167423:Event:313665
DTSTAMP:20260423T002919Z
SUMMARY:HCCP Annual Spring Meet at Linvilla Orchards
DESCRIPTION:21\n\n\nAnnual Spring Meet and Flea Marketfrom 9:00am - 3
 :00pm at Linvilla Orchards at 137 W Knowlton Rd Media PA 19063Annu
 al Spring Meet and Flea Market\nLinvilla Orchards Inc 137 W Knowlton R
 d\nMedia Pa. 19063 (GPS address 598 Linvill Rd Media)\nSunday May 21, 
 2023 9am–3pm (Rain or Shine)\nFor show info call: Seth @ 610.454.88
 06   For Flea Market info call: Wayne @ 610.637.6373\n\nDash Plaques
  to the first 150 registered vehicles in attendance\nSpecial Awards 
 to the first 30 AACA National First Vehicles registered and in attenda
 nce\nJudges Choice with 30 Trophies awarded and Best of Show. Must be
  present to receive award\nSpecial Award for the BEST PRE-1929 VEHICL
 E; Sponsored by the Hespenheide Family\nFully Charged, visible fire ex
 tinguisher is mandatory with all vehicles\nABSOLUTELY NO WEAPONS on t
 he show field or in flea market at ANY TIME\nAttractions; Bakery, Pic
 nic Grove, Hayrides, Play area, Garden & Vegetable Plants and Food\n\n
 Visit our web site at www.historicalcarclub.org\n\n\n\nFor more inform
 ation visit https://northeastwheelsevents.com/events/hccp-annual-sprin
 g-meet-at-linvilla-orchards
DTSTART:20230521T130000Z
DTEND:20230521T190000Z
CATEGORIES:car, show, and, flea, market
LOCATION:Linvilla Orchards Inc Media Pa. 19063
WEBSITE:https://historicalcarclub.org/
URL:https://historicalcarclub.org/
CONTACT:610.454.8806
ORGANIZER;CN="Seth Pancoast":https://northeastwheelsevents.com/profile
 /SethPancoast
ATTACH;FMTTYPE="image/jpeg":
ATTENDEE;ROLE=REQ-PARTICIPANT;PARTSTAT=ACCEPTED;RSVP=TRUE;CN="Seth Pan
 coast":https://northeastwheelsevents.com/profile/SethPancoast
END:VEVENT
END:VCALENDAR
