BEGIN:VCALENDAR
PRODID:NingEventWidget-v1
VERSION:2.0
METHOD:PUBLISH
BEGIN:VEVENT
UID:5167423:Event:335542
DTSTAMP:20260423T154848Z
SUMMARY:Hebron's Harvest Moon Festival
DESCRIPTION:\r\n\r\n\r\n\r\n\r\n\r\nHebron's Harvest Moon Festival- br
 ought to you by The Town Center Project\r\n\r\n\r\n\r\n\r\n\r\n\r\n\r\
 n\r\n\r\n\r\n\r\n\r\n\r\nSAVE THE DATE!! Join The Town Center Project 
 along Main Street for a day full of Halloween fun. Show off your carvi
 ng skills at our Jack o' Lantern Tower and contest for all ages! Grab 
 your favorite furry friend for our Dog Parade. Don't forget your flash
 light as you Trick or Treat along the sidewalk of Rte. 66! A Vintage C
 ar Show... Best Apple Pie Contest... Tarot card readings.... Spooky Sc
 enes from RHAM Drama... this event grows by the minute. Enjoy the best
  of local musicians, artisans, vendors, live entertainment and food tr
 ucks! Stay tuned... this is one Fall event your family does not want t
 o miss!  The Ghoul Bus Shuttle will be leaving RHAM High School and st
 opping at our event locations from 1:30-8:00\r\n\r\n\r\n\r\n\r\n\r\n\r
 \n\n\nFor more information visit https://northeastwheelsevents.com/eve
 nts/hebron-s-harvest-moon-festival
DTSTART:20241026T170000Z
DTEND:20241026T233000Z
CATEGORIES:carshow, festival
LOCATION:CT-66 BNI
WEBSITE:https://allevents.in/hebron/hebrons-harvest-moon-festival-brou
 ght-to-you-by-the-town-center-project/200026851001533
URL:https://allevents.in/hebron/hebrons-harvest-moon-festival-brought-
 to-you-by-the-town-center-project/200026851001533
CONTACT:860-228-3011
ORGANIZER:brought to you by The Town Center Project
ATTACH;FMTTYPE="image/jpeg":https://storage.ning.com/topology/rest/1.0
 /file/get/13036069098?profile=original
ATTENDEE;ROLE=REQ-PARTICIPANT;PARTSTAT=ACCEPTED;RSVP=TRUE;CN="William 
 Bruce":https://northeastwheelsevents.com/profile/WilliamBruce
END:VEVENT
END:VCALENDAR
