BEGIN:VCALENDAR
PRODID:NingEventWidget-v1
VERSION:2.0
METHOD:PUBLISH
BEGIN:VEVENT
UID:5167423:Event:335334
DTSTAMP:20260422T194039Z
SUMMARY:Hebron Trunk or Treat
DESCRIPTION:Join us at Burnt Hill Park for a spooktacular night of tru
 nk or treating, food trucks, pumpkin decorating, bounce houses, wagon 
 rides and more!Food Trucks:Ice Cream DreamKeifers Kettle CornDudes Don
 utsThe Yummy Wagon (hot dogs and more!)*DECORATED VEHICLES NEEDED!! Pl
 ease have vehicles parked by 4:45pm. Please call us to register your v
 ehicle, 860-530-1281! Classic cars, trucks and bikes welcome!\n\nFor m
 ore information visit https://northeastwheelsevents.com/events/hebron-
 trunk-or-treat
DTSTART:20241025T210000Z
DTEND:20241025T230000Z
CATEGORIES:trunkortreat, cruise-in
LOCATION:Burnt Hill Park Pavillion
WEBSITE:https://allevents.in/hebron/trunk-or-treat/200027290449844
URL:https://allevents.in/hebron/trunk-or-treat/200027290449844
CONTACT:860-530-1281
ORGANIZER:Hebron Parks and Recreation.
ATTACH;FMTTYPE="image/jpeg":https://storage.ning.com/topology/rest/1.0
 /file/get/13019602280?profile=original
ATTENDEE;ROLE=REQ-PARTICIPANT;PARTSTAT=ACCEPTED;RSVP=TRUE;CN="William 
 Bruce":https://northeastwheelsevents.com/profile/WilliamBruce
END:VEVENT
END:VCALENDAR
