BEGIN:VCALENDAR
PRODID:NingEventWidget-v1
VERSION:2.0
METHOD:PUBLISH
BEGIN:VEVENT
UID:5167423:Event:320568
DTSTAMP:20260422T172838Z
SUMMARY:Heidelberg Church - 2023 Cars for Christ
DESCRIPTION:Registrations are getting out of hand at some shows, but n
 ot ours...it's still $15. All proceeds go to local charities.  Lunch 
 coupons going to show goers.  Our Troop 141 is taking care of the coo
 king.  We have raffles donated by local businesses some worth up to $
 600. Hors are 9am to 2pm. Come and see some really cool cars...  Call
  215-368-0442 for more info. Seeya there..! \n\nFor more information 
 visit https://northeastwheelsevents.com/events/heidelberg-church-2023-
 cars-for-christ
DTSTART:20230909T130000Z
DTEND:20230909T180000Z
CATEGORIES:proceeds, of, show, go, to, local, charities
LOCATION:Hatfield, Pa
WEBSITE:
URL:
CONTACT:215-368-0442
ORGANIZER:Jerry
ATTACH;FMTTYPE="image/jpeg":https://storage.ning.com/topology/rest/1.0
 /file/get/12214470870?profile=original
ATTENDEE;ROLE=REQ-PARTICIPANT;PARTSTAT=ACCEPTED;RSVP=TRUE;CN="Mike S":
 https://northeastwheelsevents.com/profile/MikeS
END:VEVENT
END:VCALENDAR
