BEGIN:VCALENDAR
PRODID:NingEventWidget-v1
VERSION:2.0
METHOD:PUBLISH
BEGIN:VEVENT
UID:5167423:Event:65067
DTSTAMP:20260421T125141Z
SUMMARY:Hellertown, PA Model A Ford Day
DESCRIPTION:ALL Model A & AA Fords Welcome!\n* NO Car Registration Fee
 \n* Technical Session\n* Model A History\n* Swap Meet & Flea Market (s
 paces are $10 Donation to the Hellertown Historical Society)\n* Free t
 o All\n* Hosted by the Lehigh Valley Model A Ford Club and Hellertown 
 Historical Society\n\nFor more information visit https://northeastwhee
 lsevents.com/events/hellertown-pa-model-a-ford-day
DTSTART:20150426T130000Z
DTEND:20150426T190000Z
CATEGORIES:car, show, "&", flea, market
LOCATION:Lehigh Valley, PA
WEBSITE:
URL:
CONTACT:610-867-4395
ORGANIZER;CN="Nelson Chegezy":https://northeastwheelsevents.com/profil
 e/NelsonChegezy
ATTACH;FMTTYPE="image/jpeg":
ATTENDEE;ROLE=REQ-PARTICIPANT;PARTSTAT=ACCEPTED;RSVP=TRUE;CN="Nelson C
 hegezy":https://northeastwheelsevents.com/profile/NelsonChegezy
END:VEVENT
END:VCALENDAR
