BEGIN:VCALENDAR
PRODID:NingEventWidget-v1
VERSION:2.0
METHOD:PUBLISH
BEGIN:VEVENT
UID:5167423:Event:285626
DTSTAMP:20260420T011027Z
SUMMARY:Henry Vanhorn
DESCRIPTION:OK CAR SHOW FAMILYNEW DATE MARCH 20TH11AM TIL.1PMRAIN OR S
 HINE Car Meet and Greet CrusieRACKS Williamstown 2021 Black Horse Pike
  let's come together to help raise money to help cover the cost of thi
 s young lady's funeral expenses.\nI will put some door prizes together
 .\nIf you cannot make it there is a GoFundMe link that is on my page t
 hat you can go to to donate but if you'd like to get out of the house 
 and come to the meet and greet please do so any questions please feel 
 free to contact me thank you\nNigh Tma Re Beth McCarty\n\nFor more inf
 ormation visit https://northeastwheelsevents.com/events/henry-vanhorn
DTSTART:20210320T150000Z
DTEND:20210320T170000Z
CATEGORIES:to, help, pay, funeral, costs, of, my, daughter, and, frien
 d, carshow, families
LOCATION:Nj
WEBSITE:
URL:
CONTACT:
ORGANIZER;CN="Henry Vanhorn":https://northeastwheelsevents.com/profile
 /HenryVanhorn
ATTACH;FMTTYPE="image/jpeg":https://storage.ning.com/topology/rest/1.0
 /file/get/8666296679?profile=original
ATTENDEE;ROLE=REQ-PARTICIPANT;PARTSTAT=ACCEPTED;RSVP=TRUE;CN="Henry Va
 nhorn":https://northeastwheelsevents.com/profile/HenryVanhorn
END:VEVENT
END:VCALENDAR
