BEGIN:VCALENDAR
PRODID:NingEventWidget-v1
VERSION:2.0
METHOD:PUBLISH
BEGIN:VEVENT
UID:5167423:Event:246939
DTSTAMP:20260419T104746Z
SUMMARY:Herndon Lions Club Car Show / Craft Fair
DESCRIPTION:Location: Tressler Park Herndon,PA 17830\nProceeds from th
 is event go to Lions Club projects.\nThe Committee extends a personal 
 invitation to you to show and tell others about your special Car or Tr
 uck at the Herndon Lions Club Car Show being held at Tressler Park on 
 Saturday July 27,2019 beginning at 9:00 AM. “Live Music” Door Priz
 es\nFood: home made french fries,hamburgers,hot dogs,soda,water. There
  is a $10.00 registration fee day of show. Cost for craft fair stand $
 10.00Entry and placement begins at 9:00 AM.Trophies and Cash at noon.\
 nRegistration ends at 11:00 AM.\nYour participation will help us make 
 this event a success.\nThank you and hope to see you there!!!!\nDennis
  Williard, Chairman\nhttp://herndonlionsclub.homestead.com/\nFor more 
 information, e-mail me at dlw2@tds.net or 570-758-3652\n\nFor more inf
 ormation visit https://northeastwheelsevents.com/events/herndon-lions-
 club-car-show-craft-fair-1
DTSTART:20190727T130000Z
DTEND:20190727T180000Z
CATEGORIES:car, show
LOCATION:Tressler Park
WEBSITE:http://herndonlionsclub.homestead.com/car-show.html
URL:http://herndonlionsclub.homestead.com/car-show.html
CONTACT:570-758-3652
ORGANIZER;CN="Dennis Williard":https://northeastwheelsevents.com/profi
 le/DennisWilliard
ATTACH;FMTTYPE="image/jpeg":
ATTENDEE;ROLE=REQ-PARTICIPANT;PARTSTAT=ACCEPTED;RSVP=TRUE;CN="Dennis W
 illiard":https://northeastwheelsevents.com/profile/DennisWilliard
ATTENDEE;ROLE=REQ-PARTICIPANT;PARTSTAT=TENTATIVE;RSVP=TRUE;CN="Blaine 
 McKivison":https://northeastwheelsevents.com/profile/BlaineMcKivison
END:VEVENT
END:VCALENDAR
