BEGIN:VCALENDAR
PRODID:NingEventWidget-v1
VERSION:2.0
METHOD:PUBLISH
BEGIN:VEVENT
UID:5167423:Event:60348
DTSTAMP:20260422T213233Z
SUMMARY:Hess Toy Truck Mobile Museum- North Brunswick, NJ
DESCRIPTION:Hess is celebrating the 50th anniversary of the Hess Toy T
 ruck with a first-ever Mobile Museum. The museum will showcase for the
  first time the entire collection of holiday Hess Toy Trucks in one lo
 cation and never-before-seen artifacts chronicling the history of the 
 beloved toy. Fans and collectors will be able to explore the Mobile Mu
 seum while they learn more about the iconic brand.\nThe Mobile Museum 
 will be accompanied by outdoor activities for children, dependent on w
 eather, including a photo op where guests can choose a custom backgrou
 nd, a Kids’ Zone featuring puzzles and a holiday card coloring area,
  a prize wheel, and a bank of toy truck computer games. \n\nFor more 
 information visit https://northeastwheelsevents.com/events/hess-toy-tr
 uck-mobile-museum-north-brunswick-nj
DTSTART:20141115T160000Z
DTEND:20141116T000000Z
CATEGORIES:family, museum
LOCATION:North Brunswick #30332
WEBSITE:http://www.hesstoytruck.com.
URL:http://www.hesstoytruck.com.
CONTACT:
ORGANIZER:Hess Toy Trucks
ATTACH;FMTTYPE="image/jpeg":
ATTENDEE;ROLE=REQ-PARTICIPANT;PARTSTAT=ACCEPTED;RSVP=TRUE;CN="Cody Dan
 o":https://northeastwheelsevents.com/profile/CodyDano
END:VEVENT
END:VCALENDAR
