BEGIN:VCALENDAR
PRODID:NingEventWidget-v1
VERSION:2.0
METHOD:PUBLISH
BEGIN:VEVENT
UID:5167423:Event:60333
DTSTAMP:20260424T015023Z
SUMMARY:Hess Toy Truck Mobile Museum
DESCRIPTION:Join us on November 30th, from 10 AM to 4 PM and enjoy our
  Hess Toy Truck Mobile Museum! Mark and Jamie are the friendly faces o
 n the Hess Toy Truck Mobile Museum who will guide fans on a toy truck 
 journey through the past 50 years. The Hess Toy Truck Mobile Museum is
  full of fun family activities; and the best part is it’s free to al
 l. Fans of all ages can see the entire collection of holiday trucks si
 nce 1964. And inside, The Hess Toy Truck Mobile museum goers can watch
  clips from each of the popular commercials with the signature “The 
 Hess Truck’s back and it’s better than ever” song, learn niche f
 acts and even get never–before-seen details about how the trucks are
  made. Outside of the Hess Truck mobile museum will be an area featuri
 ng an activity-rich kid’s zone, a photo opportunity to put yourself 
 into one of those famous old commercials, a prize wheel and the full a
 rcade of the recent Hess Toy Truck mobile app games. Guests will also 
 want to come inside the AACA Museum for our Cars & Christmas exhibit 
 featuring decorated holiday trees, Ernie’s Taxi from the iconic holi
 day movie “It’s a Wonderful Life”, some fabulous automobiles, Gr
 inch scavenger hunt, vintage bicycles & much more! There is no fee cha
 rged for the Hess Toy Truck Mobile Museum activities – Regular AACA 
 Museum admission will apply for entrance into the AACA Museum.\n\nFor 
 more information visit https://northeastwheelsevents.com/events/hess-t
 oy-truck-mobile-museum
DTSTART:20141130T150000Z
DTEND:20141130T210000Z
CATEGORIES:seasonal
LOCATION:AACA Museum
WEBSITE:http://www.aacamuseum.org/hess-truck-mobile-museum-celebrating
 -50-years-november-30th/
URL:http://www.aacamuseum.org/hess-truck-mobile-museum-celebrating-50-
 years-november-30th/
CONTACT:717-566-7100
ORGANIZER;CN="AACA Museum":https://northeastwheelsevents.com/profile/A
 ACAMuseum553
ATTACH;FMTTYPE="image/jpeg":http://storage.ning.com/topology/rest/1.0/
 file/get/2284066833?profile=original
ATTENDEE;ROLE=REQ-PARTICIPANT;PARTSTAT=ACCEPTED;RSVP=TRUE;CN="AACA Mus
 eum":https://northeastwheelsevents.com/profile/AACAMuseum553
END:VEVENT
END:VCALENDAR
