BEGIN:VCALENDAR
PRODID:NingEventWidget-v1
VERSION:2.0
METHOD:PUBLISH
BEGIN:VEVENT
UID:5167423:Event:312817
DTSTAMP:20260425T170814Z
SUMMARY:High Octane Classics - Cars - Coffee
DESCRIPTION:Season opener Cars & Coffee @ High Octane Classics. New En
 gland's largest Muscle & Exotic Super Car store.\n\nEvent Feature Club
 : Chevelle & El Camino Owners Club of New England.\n\nFor more informa
 tion visit https://northeastwheelsevents.com/events/high-octane-classi
 cs-cars-amp-coffee
DTSTART:20230422T140000Z
DTEND:20230422T160000Z
CATEGORIES:classic, car, show, cars, coffee
LOCATION:High Octane Classics
WEBSITE:http://Highoctaneclassics.com
URL:http://Highoctaneclassics.com
CONTACT:508.859.4515
ORGANIZER:High Octane Classics
ATTACH;FMTTYPE="image/jpeg":https://storage.ning.com/topology/rest/1.0
 /file/get/11000719873?profile=original
ATTENDEE;ROLE=REQ-PARTICIPANT;PARTSTAT=ACCEPTED;RSVP=TRUE;CN="Gregg An
 derson":https://northeastwheelsevents.com/profile/GreggAnderson
END:VEVENT
END:VCALENDAR
