BEGIN:VCALENDAR
PRODID:NingEventWidget-v1
VERSION:2.0
METHOD:PUBLISH
BEGIN:VEVENT
UID:5167423:Event:61866
DTSTAMP:20260423T084651Z
SUMMARY:High Octane South Jersey Santa Claus Rally
DESCRIPTION:Make it a  High Octane Holiday Season! Show your support 
 for the sick and needy children that represent Deborah Heart & Lung Ce
 nter’s pediatric outpatients and our immediate South Jersey Communit
 y.  Share the joy this season with High Octane South Jersey’s  Sec
 ond Annual Santa Claus Rally “The Running of The Toys.” \n\nFor m
 ore information visit https://northeastwheelsevents.com/events/high-oc
 tane-south-jersey-santa-claus-rally
DTSTART:20141213T133000Z
DTEND:20141213T190000Z
CATEGORIES:toy, drive, "&", rally, through, the, woods
LOCATION:Cucina Carini Restaurant
WEBSITE:http://www.highoctanesj.com
URL:http://www.highoctanesj.com
CONTACT:
ORGANIZER;CN="Chris Scafario":https://northeastwheelsevents.com/profil
 e/ChrisScafario
ATTACH;FMTTYPE="image/jpeg":http://storage.ning.com/topology/rest/1.0/
 file/get/2284063895?profile=original
ATTENDEE;ROLE=REQ-PARTICIPANT;PARTSTAT=ACCEPTED;RSVP=TRUE;CN="Chris Sc
 afario":https://northeastwheelsevents.com/profile/ChrisScafario
END:VEVENT
END:VCALENDAR
