BEGIN:VCALENDAR
PRODID:NingEventWidget-v1
VERSION:2.0
METHOD:PUBLISH
BEGIN:VEVENT
UID:5167423:Event:310301
DTSTAMP:20260425T171007Z
SUMMARY:Hilltop Drive - In Cruise Night
DESCRIPTION:with Pottstown Classics Car Club and Rubright Racing.Come 
 on out for a night of good food and fun. 50/50 drawing, trophies, door
  prizes, and DJ Sheila spinning the tunes\n\nFor more information visi
 t https://northeastwheelsevents.com/events/hilltop-drive-in-cruise-nig
 hts
DTSTART:20230419T210000Z
DTEND:20230420T010000Z
CATEGORIES:cruise, -, in
LOCATION:Hilltop Drive - in
WEBSITE:
URL:
CONTACT:
ORGANIZER;CN="Anthony J Ziemba Jr":https://northeastwheelsevents.com/p
 rofile/AnthonyJZiembaJr
ATTACH;FMTTYPE="image/jpeg":https://storage.ning.com/topology/rest/1.0
 /file/get/10943663272?profile=original
ATTENDEE;ROLE=REQ-PARTICIPANT;PARTSTAT=ACCEPTED;RSVP=TRUE;CN="Anthony 
 J Ziemba Jr":https://northeastwheelsevents.com/profile/AnthonyJZiembaJ
 r
ATTENDEE;ROLE=REQ-PARTICIPANT;PARTSTAT=TENTATIVE;RSVP=TRUE;CN="Todd St
 evens":https://northeastwheelsevents.com/profile/ToddStevens
END:VEVENT
END:VCALENDAR
