BEGIN:VCALENDAR
PRODID:NingEventWidget-v1
VERSION:2.0
METHOD:PUBLISH
BEGIN:VEVENT
UID:5167423:Event:192549
DTSTAMP:20260419T171833Z
SUMMARY:HILLTOP DRIVE-IN
DESCRIPTION:CAR SHOW 3RD WEDNESDAY OF THE MONTH\nDATE ARE JULY 18TH , 
 AUG 15TH, SEPT 19TH AND OCT 17TH\nSHOW TIME IS 5PM TILL 9PM.\n\n\nFor 
 more information visit https://northeastwheelsevents.com/events/hillto
 p-drive-in
DTSTART:20180718T210000Z
DTEND:20180719T010000Z
CATEGORIES:car, show
LOCATION:SANATOGA PA
WEBSITE:
URL:
CONTACT:610 326 2342
ORGANIZER:HILLTOP DRIVE-IN
ATTACH;FMTTYPE="image/jpeg":
ATTENDEE;ROLE=REQ-PARTICIPANT;PARTSTAT=ACCEPTED;RSVP=TRUE;CN="Sheila J
 essum":https://northeastwheelsevents.com/profile/SheilaJessum
END:VEVENT
END:VCALENDAR
