BEGIN:VCALENDAR
PRODID:NingEventWidget-v1
VERSION:2.0
METHOD:PUBLISH
BEGIN:VEVENT
UID:5167423:Event:831
DTSTAMP:20260422T223928Z
SUMMARY:“Historic Poole Forge” Ironmaster’s Road Rally  Narvon, 
 PA
DESCRIPTION:Guided tour (approx 70mi) through 3 counties with visitati
 ons at several 18th and 19th century sites. Any type of car can partic
 ipate. Event is appropriate for all ages. Reg. fee includes 2 adult lu
 nch tickets for Hess BBQ. Trophies will be awarded to the driver and n
 avigator in their class for the most correctly answered questions and 
 recorded mileage.\n\nJoin us on Sat Aug 7th for an all new road rally 
 and historical adventure at “Historic Poole Forge”, Caenarvon Town
 ship, PA. Explore the lesser traveled roads on a guided tour through L
 ancaster, Berks and Chester Counties as we sample and experience sever
 al other 18th and 19th century historical sites along the way.\n\nThe 
 rally route will return to “Historic Poole Forge” for our favorite
  4th year state champ, Hess’s BBQ luncheon. We will finish our event
  in the afternoon with trophy awards to the best competitors in their 
 class for the most correctly answered questions and accurately recorde
 d mileage.\n\nEveryone and anyone can participate in this fun activity
 . You don’t need a fancy car, just a sense of adventure (and directi
 on). The $70 registration fee includes all your rally materials and tw
 o adult meal tickets (driver and navigator). Additional lunches must b
 e purchased in advance of the event. All of the proceeds from the road
  rally go towards the restoration of the Poole Forge Ironmaster’s Ma
 nsion.\n\nEvent Fees: $70\n\nFor more information visit https://northe
 astwheelsevents.com/events/historic-poole-forge
DTSTART:20100807T123000Z
DTEND:20100807T190000Z
CATEGORIES:road, rally
LOCATION:Historic Poole Forge,
WEBSITE:http://www.historicpooleforge.org.
URL:http://www.historicpooleforge.org.
CONTACT:717-821-1531
ORGANIZER:Bob Owens
ATTACH;FMTTYPE="image/jpeg":
ATTENDEE;ROLE=REQ-PARTICIPANT;PARTSTAT=ACCEPTED;RSVP=TRUE;CN="Richard 
 Scott":https://northeastwheelsevents.com/profile/RichardScott
END:VEVENT
END:VCALENDAR
