BEGIN:VCALENDAR
PRODID:NingEventWidget-v1
VERSION:2.0
METHOD:PUBLISH
BEGIN:VEVENT
UID:5167423:Event:101693
DTSTAMP:20260424T155519Z
SUMMARY:HOLIDAY TRAIN EXHIBIT at America On Wheels Museum
DESCRIPTION:Enjoy the sounds, lights and action of many model trains s
 tationed around the museum’s galleries. Fun for adults and kids of a
 ll ages! The museum is a Toys for Tots drop site. Bring a new, unwrapp
 ed toy and it will be placed on the Mack Truck for delivery to childr
 en in need.\n\nPlease visit http://americaonwheels.org/ for all HOLI
 DAY TRAIN EXHIBIT EVENTS from November 25 - January 3\n\n\nFor more in
 formation visit https://northeastwheelsevents.com/events/holiday-train
 -exhibit-at-america-on-wheels-museum
DTSTART:20161125T050000Z
DTEND:20170104T045900Z
CATEGORIES:family, friends, free, museum, cars, trucks, bikes
LOCATION:America On Wheels Museum
WEBSITE:http://americaonwheels.org/
URL:http://americaonwheels.org/
CONTACT:610-432-4200
ORGANIZER:America On Wheels Museum
ATTACH;FMTTYPE="image/jpeg":http://storage.ning.com/topology/rest/1.0/
 file/get/2284065500?profile=original
ATTENDEE;ROLE=REQ-PARTICIPANT;PARTSTAT=ACCEPTED;RSVP=TRUE;CN="America 
 On Wheels Museum":https://northeastwheelsevents.com/profile/americaonw
 heels
END:VEVENT
END:VCALENDAR
