BEGIN:VCALENDAR
PRODID:NingEventWidget-v1
VERSION:2.0
METHOD:PUBLISH
BEGIN:VEVENT
UID:5167423:Event:173276
DTSTAMP:20260423T235851Z
SUMMARY:Hoods Up Weekend
DESCRIPTION:Sneak a peek under the hoods of the cars and trucks on dis
 play!  Our unique collection of one-of-a-kind autos means you'll get 
 to see some early and experimental motors.  On Saturday, some of the 
 vehicles will run!  During regular business hours Saturday & Sunday, 
 9:30am-4pm.  Included with regular museum admission.\n\nFor more info
 rmation visit https://northeastwheelsevents.com/events/hoods-up-weeken
 d-1
DTSTART:20180310T143000Z
DTEND:20180311T200000Z
CATEGORIES:special, exhibit
LOCATION:Boyertown Museum of Historic Vehicles
WEBSITE:http://www.boyertownmuseum.org
URL:http://www.boyertownmuseum.org
CONTACT:610-367-2090
ORGANIZER;CN="Boyertown Museum of Historic Veh":https://northeastwheel
 sevents.com/profile/BoyertownMuseumofHistoricVeh
ATTACH;FMTTYPE="image/jpeg":http://storage.ning.com/topology/rest/1.0/
 file/get/2284101526?profile=original
ATTENDEE;ROLE=REQ-PARTICIPANT;PARTSTAT=ACCEPTED;RSVP=TRUE;CN="Boyertow
 n Museum of Historic Veh":https://northeastwheelsevents.com/profile/Bo
 yertownMuseumofHistoricVeh
END:VEVENT
END:VCALENDAR
