BEGIN:VCALENDAR
PRODID:NingEventWidget-v1
VERSION:2.0
METHOD:PUBLISH
BEGIN:VEVENT
UID:5167423:Event:264306
DTSTAMP:20260425T210316Z
SUMMARY:Hoods Up Weekend
DESCRIPTION:See what makes the Newport Car Museum’s 75+ cars rock, r
 umble and roar! During “Hoods Up” Weekend every car’s engine can
  be inspected and admired.\n \nFree with regular admission: $18/adult
 s; $15/Seniors, Military, Students; $8/Ages 5-15 (with an adult); Free
 /Ages 4 and under (with an adult)\n\nFor more information visit https:
 //northeastwheelsevents.com/events/hoods-up-weekend-7
DTSTART:20200808T140000Z
DTEND:20200809T210000Z
CATEGORIES:special, event
LOCATION:Newport Car Museum
WEBSITE:http://www.newportcarmuseum.org
URL:http://www.newportcarmuseum.org
CONTACT:4018482277
ORGANIZER:Newport Car Museum
ATTACH;FMTTYPE="image/jpeg":https://storage.ning.com/topology/rest/1.0
 /file/get/7265480256?profile=original
ATTENDEE;ROLE=REQ-PARTICIPANT;PARTSTAT=ACCEPTED;RSVP=TRUE;CN="Barby Ma
 cGowan":https://northeastwheelsevents.com/profile/BarbyMacGowan
END:VEVENT
END:VCALENDAR
