BEGIN:VCALENDAR
PRODID:NingEventWidget-v1
VERSION:2.0
METHOD:PUBLISH
BEGIN:VEVENT
UID:5167423:Event:172649
DTSTAMP:20260422T123143Z
SUMMARY:HOODS UP WEEKEND at America On Wheels Museum
DESCRIPTION:June 16 & 17 - HOODS UP WEEKEND – Celebrate Father’s D
 ay with Dad by bringing him to see what’s under the hoods at the mu
 seum. Selected cars on display with hood’s up.\n\nJune 17 - Happy Fa
 ther’s Day Continues – Buy One Get One Admission FREE  Noon – 3
 pm\n\nFor more information visit https://northeastwheelsevents.com/eve
 nts/hoods-up-weekend-at-america-on-wheels-museum-1
DTSTART:20180616T140000Z
DTEND:20180616T190000Z
CATEGORIES:"father's", day, car, show, hoods, up, family
LOCATION:America On Wheels Museum
WEBSITE:http://americaonwheels.org/
URL:http://americaonwheels.org/
CONTACT:610-432-4200
ORGANIZER;CN="America On Wheels Museum":https://northeastwheelsevents.
 com/profile/americaonwheels
ATTACH;FMTTYPE="image/jpeg":http://storage.ning.com/topology/rest/1.0/
 file/get/2284101219?profile=original
ATTENDEE;ROLE=REQ-PARTICIPANT;PARTSTAT=ACCEPTED;RSVP=TRUE;CN="America 
 On Wheels Museum":https://northeastwheelsevents.com/profile/americaonw
 heels
END:VEVENT
END:VCALENDAR
