BEGIN:VCALENDAR
PRODID:NingEventWidget-v1
VERSION:2.0
METHOD:PUBLISH
BEGIN:VEVENT
UID:5167423:Event:20495
DTSTAMP:20260422T013949Z
SUMMARY:Hooked On Pullin'LLC Presents Keystone Country Truck & Tractor
  Pull Weekend
DESCRIPTION:\n\nFor more information visit https://northeastwheelseven
 ts.com/events/hooked-on-pullin-llc-presents-keystone-country-truck-tra
 ctor-pull
DTSTART:20130705T040000Z
DTEND:20130706T220000Z
CATEGORIES:truck, and, tractor, pull
LOCATION:Huntingdon County Fairgrounds
WEBSITE:http://www.TNTS1.com
URL:http://www.TNTS1.com
CONTACT:717 248-2278
ORGANIZER:Tom Shirley
ATTACH;FMTTYPE="image/jpeg":http://storage.ning.com/topology/rest/1.0/
 file/get/2284049329?profile=original
ATTENDEE;ROLE=REQ-PARTICIPANT;PARTSTAT=ACCEPTED;RSVP=TRUE;CN="Pamela H
 irschhorn":https://northeastwheelsevents.com/profile/PamelaHirschhorn
END:VEVENT
END:VCALENDAR
