BEGIN:VCALENDAR
PRODID:NingEventWidget-v1
VERSION:2.0
METHOD:PUBLISH
BEGIN:VEVENT
UID:5167423:Event:312885
DTSTAMP:20260421T051129Z
SUMMARY:Hookstown Grange Annual Memorial Day Car Cruise
DESCRIPTION:Hookstown grange memorial day car cruise\nMonday May 29 20
 23\nHookstown Fairgrounds 1198 state route 168 Hookstown PA 15050\nNoo
 n to 3 pm - come before 1030 am and watch the parade\nRoad closed from
  1030 am till noon\nFree entry Free parking Free admission\nOpen to al
 l makes and models\n50/50 raffle and food available\nBenefits Hookstow
 n Grange\nContact Mike Elliott 724-573-9377\n\nFor more information vi
 sit https://northeastwheelsevents.com/events/hookstown-grange-annual-m
 emorial-day-car-cruise
DTSTART:20230529T160000Z
DTEND:20230529T190000Z
CATEGORIES:car, cruise, in
LOCATION:Hookstown Fairgrounds
WEBSITE:
URL:
CONTACT:7245739377
ORGANIZER;CN="Mike Elliott":https://northeastwheelsevents.com/profile/
 MikeElliott
ATTACH;FMTTYPE="image/jpeg":
ATTENDEE;ROLE=REQ-PARTICIPANT;PARTSTAT=ACCEPTED;RSVP=TRUE;CN="Mike Ell
 iott":https://northeastwheelsevents.com/profile/MikeElliott
END:VEVENT
END:VCALENDAR
