BEGIN:VCALENDAR
PRODID:NingEventWidget-v1
VERSION:2.0
METHOD:PUBLISH
BEGIN:VEVENT
UID:5167423:Event:162617
DTSTAMP:20260425T155513Z
SUMMARY:Hope Fest Car Show &amp; Motorcycle Stunt Show (former Starboy
 z)
DESCRIPTION:Car Show and Motorcycle Stunt Show at the Trumbull County,
  OH fairgrounds. Stunt Show group headed by for Starboyz member Scott 
 Caraboolad. (Gates open for car show at 9a, public at noon) Food and g
 ames included\n\nFor more information visit https://northeastwheelseve
 nts.com/events/hope-fest-car-show-amp-motorcycle-stunt-show-former-sta
 rboyz
DTSTART:20170923T160000Z
DTEND:20170923T220000Z
CATEGORIES:entertainment
LOCATION:Trumbull County Fairgrounds
WEBSITE:https://m.facebook.com/events/783168125194836/?ti=ia
URL:https://m.facebook.com/events/783168125194836/?ti=ia
CONTACT:330-219-5976
ORGANIZER:BAMA
ATTACH;FMTTYPE="image/jpeg":http://storage.ning.com/topology/rest/1.0/
 file/get/2284100158?profile=original
ATTENDEE;ROLE=REQ-PARTICIPANT;PARTSTAT=ACCEPTED;RSVP=TRUE;CN="dale bri
 ggs":https://northeastwheelsevents.com/profile/dalebriggs
END:VEVENT
END:VCALENDAR
