BEGIN:VCALENDAR
PRODID:NingEventWidget-v1
VERSION:2.0
METHOD:PUBLISH
BEGIN:VEVENT
UID:5167423:Event:299394
DTSTAMP:20260424T040031Z
SUMMARY:Hot Rod Annual at Lincoln Speedway
DESCRIPTION:The Hot Rod Annual at Lincoln Speedway (formally the Jalop
 y showdown) May 14th at Lincoln Speedway in Abbottstown Pa. Car show, 
 swap meet vendors, vintage race car track time and the Lucky Devil Hel
 l Drivers Thrill Show. Same great show as the Jalopy Showdown under ne
 w management, all to benefit the Eastern Museum of Motor Racing. Gates
  open at 8 vintage race car track time 11-3. \n\nFor more information
  visit https://northeastwheelsevents.com/events/hot-rod-annual-at-linc
 oln-speedway
DTSTART:20220514T120000Z
DTEND:20220514T210000Z
CATEGORIES:cruise, in, car, show, vintage, race, track, time
LOCATION:Lincoln Speedway
WEBSITE:
URL:
CONTACT:E. Kowalski 610-301-6565 - J. Marks 717-645-0440
ORGANIZER:E.J. Kowalski / John Marks
ATTACH;FMTTYPE="image/jpeg":https://storage.ning.com/topology/rest/1.0
 /file/get/10262229082?profile=original
ATTENDEE;ROLE=REQ-PARTICIPANT;PARTSTAT=ACCEPTED;RSVP=TRUE;CN="E.J. Kow
 alski":https://northeastwheelsevents.com/profile/EJKowalski
END:VEVENT
END:VCALENDAR
