BEGIN:VCALENDAR
PRODID:NingEventWidget-v1
VERSION:2.0
METHOD:PUBLISH
BEGIN:VEVENT
UID:5167423:Event:334920
DTSTAMP:20260423T183056Z
SUMMARY:Hot Rod & Custom Fall Out- XIX
DESCRIPTION:\r\n\r\n\r\n\r\n\r\n\r\n$10 per personGates open at 10amNo
  Rain Date\r\n\r\n\r\n\r\n\r\n\r\n\r\n\r\n\r\n\r\n\r\nElks Club Pavili
 on98 Woodland StreetSouth Glastonbury, CT 06073\r\n\r\n\r\n\r\n\r\n\r\
 n\r\n\r\n\r\n\r\n\r\nBands & continuous music all dayVendors, food, bo
 oze, and more.\r\n\r\n\r\n\r\n\r\n\r\n\r\n\r\n\r\n\r\n1963 & Older Tra
 ditional Styled Vehicles Only!\r\nHot Rods, Kustoms, Stocks, Race, and
  Bikes. Strictly Enforced at Gate (We’re not joking)\r\nNew England
 's premier traditional hot rod and custom car show. \r\nNo billet, no
  rats, theme cars, modern high tech street rods, or trailer queens.\r\
 nSee Show Rules/FAQ for more info.\r\n\r\n\r\n\n\nFor more informati
 on visit https://northeastwheelsevents.com/events/hot-rod-custom-fall-
 out-xix
DTSTART:20241012T140000Z
DTEND:20241012T190000Z
CATEGORIES:carshow
LOCATION:Elks Club Pavilion
WEBSITE:https://hotrodfallout.com/
URL:https://hotrodfallout.com/
CONTACT:860-250-4526
ORGANIZER:Glastonbury Elks B.P.O.E. 2202
ATTACH;FMTTYPE="image/jpeg":https://storage.ning.com/topology/rest/1.0
 /file/get/12995736878?profile=original
ATTENDEE;ROLE=REQ-PARTICIPANT;PARTSTAT=ACCEPTED;RSVP=TRUE;CN="William 
 Bruce":https://northeastwheelsevents.com/profile/WilliamBruce
END:VEVENT
END:VCALENDAR
