BEGIN:VCALENDAR
PRODID:NingEventWidget-v1
VERSION:2.0
METHOD:PUBLISH
BEGIN:VEVENT
UID:5167423:Event:118762
DTSTAMP:20260421T043642Z
SUMMARY:Hot Rod Poker Run
DESCRIPTION:This is a fundraiser to help Jill Linko Jill is in need of
  a heart transplant. There will be Music,50/50 drawing,Slow Drags and 
 a Silent Auction. all cars/ motorcycles/trucks welcome.\n\nFor more in
 formation visit https://northeastwheelsevents.com/events/hot-rod-poker
 -run-1
DTSTART:20160623T140000Z
DTEND:20160623T210000Z
CATEGORIES:poker, run
LOCATION:Milesburg Legion Grounds
WEBSITE:http://www.richnerscustomexhaust.com/calenderofevents
URL:http://www.richnerscustomexhaust.com/calenderofevents
CONTACT:814-321-5628
ORGANIZER;CN="scott Richner":https://northeastwheelsevents.com/profile
 /scottRichner
ATTACH;FMTTYPE="image/jpeg":http://storage.ning.com/topology/rest/1.0/
 file/get/2284087849?profile=original
ATTENDEE;ROLE=REQ-PARTICIPANT;PARTSTAT=ACCEPTED;RSVP=TRUE;CN="scott Ri
 chner":https://northeastwheelsevents.com/profile/scottRichner
END:VEVENT
END:VCALENDAR
