BEGIN:VCALENDAR
PRODID:NingEventWidget-v1
VERSION:2.0
METHOD:PUBLISH
BEGIN:VEVENT
UID:5167423:Event:244170
DTSTAMP:20260421T211902Z
SUMMARY:Hot Rods at Heritage Park - May 19, 2019
DESCRIPTION:Register now.\n\nhttps://www.facebook.com/events/203902581
 9542093/\n\nFor more information visit https://northeastwheelsevents.c
 om/events/hot-rods-at-heritage-park-may-19-2019
DTSTART:20190519T130000Z
DTEND:20190519T200000Z
CATEGORIES:car, and, truck, show, -, fund, raiser
LOCATION:Heritage Park,
WEBSITE:https://www.facebook.com/pages/Heritage-park-Bethlehem-nj/1915
 495435370818?eid=ARDu7FgI5J7KAZLj840MrPYOTCMQdulRItJ6mVKuiOZjwwx5fa1Ui
 afYJAoRoX5_zine1sUvFvZEZu-q
URL:https://www.facebook.com/pages/Heritage-park-Bethlehem-nj/19154954
 35370818?eid=ARDu7FgI5J7KAZLj840MrPYOTCMQdulRItJ6mVKuiOZjwwx5fa1UiafYJ
 AoRoX5_zine1sUvFvZEZu-q
CONTACT:
ORGANIZER:Paul Muir
ATTACH;FMTTYPE="image/jpeg":https://storage.ning.com/topology/rest/1.0
 /file/get/2268331963?profile=original
ATTENDEE;ROLE=REQ-PARTICIPANT;PARTSTAT=ACCEPTED;RSVP=TRUE;CN="Ed Rhode
 ":https://northeastwheelsevents.com/profile/EdRhode
END:VEVENT
END:VCALENDAR
