BEGIN:VCALENDAR
PRODID:NingEventWidget-v1
VERSION:2.0
METHOD:PUBLISH
BEGIN:VEVENT
UID:5167423:Event:112951
DTSTAMP:20260425T151312Z
SUMMARY:Hot Tuner Night 9
DESCRIPTION:\nÂ \n\nAG-Force Entertainment Presents:Â Hot Tuner NightÂ
  Sunday June 12th 2016Â $20 Car SingleÂ $15 With TeamÂ $10 BikeÂ 11 AM
  Till 4 PMÂ Top 100 Categories Door Prizes 50/50 & GiveawaysÂ $500 Dee
 pest Car ClubÂ $300 Best Of ShowÂ $100 U.T.O ChoiceÂ City Plex 12Â 360
 -394 Springfield AvenueÂ Newark NJ 973-642-5555\n\n\n\n\nFor more info
 rmation visit https://northeastwheelsevents.com/events/hot-tuner-night
 -9
DTSTART:20160612T150000Z
DTEND:20160612T200000Z
CATEGORIES:car, show
LOCATION:City Plex 12
WEBSITE:http://www.gwizautoentertainment.com/
URL:http://www.gwizautoentertainment.com/
CONTACT:9736425555
ORGANIZER;CN="Mayan Mobile":https://northeastwheelsevents.com/profile/
 MayanMobile
ATTACH;FMTTYPE="image/jpeg":http://storage.ning.com/topology/rest/1.0/
 file/get/2284086731?profile=original
ATTENDEE;ROLE=REQ-PARTICIPANT;PARTSTAT=ACCEPTED;RSVP=TRUE;CN="Mayan Mo
 bile":https://northeastwheelsevents.com/profile/MayanMobile
END:VEVENT
END:VCALENDAR
