BEGIN:VCALENDAR
PRODID:NingEventWidget-v1
VERSION:2.0
METHOD:PUBLISH
BEGIN:VEVENT
UID:5167423:Event:325682
DTSTAMP:20260423T052430Z
SUMMARY:Hot Wheels Monster Trucks Live with \"Glow Party\" in Brooklyn
 , ny.
DESCRIPTION:  Hot Wheels Monster Trucks Live \"Glow Party\" returns t
 o Brooklyn, New York  at the Barclays Center. Don't miss the return o
 f your favorite Monster Trucks, starring BIGFOOT, Tiger Shark and many
  others. Saturday, September 28, 2024. The \"Glow Party\" features a l
 aser light show, spectacular theatrical effects, dance parties, and Ho
 t Wheel toy giveaways. A special appearance by a car eating, fire brea
 thing transforming robot called TRANSAURUS, and the electifying high- 
 flyers of the Hot Wheels Monster Trucks live, freestyle Motocross!\r\n
 \r\n The \"Crash Zone/Power Smashers Pre Race Show\" gives the fans a
 n up close and personal look at the Hot Wheel Monster Trucks. You also
  get to meet and greet with the drivers and crew. Autographs also!  I
 t is open from 10:00am to 11:15pm, Saturday Matinee and  Saturday Eve
 ning 5:00pm-6:15pm. Check for ticket information.\r\n\r\nAlso backstag
 e \"VIP\" tour available with the Hot Wheels Monster Trucks Live annou
 ncers and back stage information, line ups and more with early entry t
 o \"Crash Zone\". Saturday's \"Backstage VIP Experience\" tour Matine
 e starts at 9:30am and Evening at 4:30pm. Non \"VIP\" gates open at 9:
 45am Saturday matinee, 4:45pm, Sat. Evening.\r\n Show starts Saturday
  at 12:30pm and 7:30pm. Call 718-257-8483 or email website for premium
  group sales. For ticket information click in website https://hotwheel
 smonstertruckslive.com/event/brooklyn-ny-2024/ or https://www.ticketma
 ster.com. or https://www.barclayscenter.com , Search for Brooklyn show
 .\r\n\r\n Check on https://hotwheelsmonstertruckslive.com for full 20
 23-2024 schedule. \n\nFor more information visit https://northeastwhe
 elsevents.com/events/hot-wheels-monster-trucks-live-with-glow-party-in
 -brooklyn-ny
DTSTART:20240928T133000Z
DTEND:20240929T013000Z
CATEGORIES:monster, trucks, motocross
LOCATION:Barclays Center
WEBSITE:https://hotwheelsmonstertruckslive.com
URL:https://hotwheelsmonstertruckslive.com
CONTACT:917-618-6100
ORGANIZER:Barclays center
ATTACH;FMTTYPE="image/jpeg":https://storage.ning.com/topology/rest/1.0
 /file/get/12342688895?profile=original
ATTENDEE;ROLE=REQ-PARTICIPANT;PARTSTAT=ACCEPTED;RSVP=TRUE;CN="William 
 Bruce":https://northeastwheelsevents.com/profile/WilliamBruce
END:VEVENT
END:VCALENDAR
