BEGIN:VCALENDAR
PRODID:NingEventWidget-v1
VERSION:2.0
METHOD:PUBLISH
BEGIN:VEVENT
UID:5167423:Event:325866
DTSTAMP:20260425T223815Z
SUMMARY:Hot Wheels Monster Trucks Live with \"Glow Party\" in Philadel
 phia, Pa.
DESCRIPTION:  Hot Wheels Monster Trucks Live \"Glow Party\" returns t
 o Philadelphia, Pennsylvania, at the Wells Fargo Center.  Don't miss 
 the return of your favorite Monster Trucks, starring BIGFOOT, Tiger Sh
 ark and many others. Saturday, August 24 and Sunday, August 25, 2024. 
 The \"Glow Party\" features a laser light show, spectacular theatrical
  effects, dance parties, and Hot Wheel toy giveaways. A special appear
 ance by a car eating, fire breathing transforming robot called TRANSAU
 RUS, and the electifying high- flyers of the Hot Wheels Monster Trucks
  live, freestyle Motocross! The \"Crash Zone/Power Smashers Pre Race S
 how\" gives the fans an up close and personal look at the Hot Wheel Mo
 nster Trucks. You also get to meet and greet with the drivers and crew
 . Autographs also!  It is open from 10:00am to 11:15pm, Saturday Mati
 nee and 12:00pm-1:15pm for Sunday Matinee. Saturday Evening 5:00pm-6:1
 5pm. Check for ticket information. Also backstage \"VIP\" tour availab
 le with the Hot Wheels Monster Trucks Live announcers and back stage i
 nformation with early entry to  \"Crash Zone\" opens 9:30am for Satur
 day Matinee and 11:30am Sunday. Saturday Evening \"VIP\" starts at 4:3
 0pm. Non \"VIP\" gates open at 9:45am Saturday matinee, 4:45pm, Sat. E
 vening and 11:45am Sunday matinee. Show starts Saturday at 12:30pm and
  7:30pm, and  Sunday at 2:30pm. Call 215-336-3600 or email website fo
 r group sales. For ticket information click in website https://hotwhee
 lsmonstertruckslive.com/event/philadelphia-pa-2024/ or https://www.tic
 ketmaster.com. or https://wellsfargocenterphilly.com , Search for Phil
 adelphia show. Check on https://hotwheelsmonstertruckslive.com for ful
 l 2023-2024 schedule. \n\nFor more information visit https://northeas
 twheelsevents.com/events/hot-wheels-monster-trucks-live-with-glow-part
 y-in-philadelphia-pa
DTSTART:20240824T133000Z
DTEND:20240826T013000Z
CATEGORIES:monster, trucks, motocross
LOCATION:Wells Fargo Center
WEBSITE:https://hotwheelsmonstertruckslive.com
URL:https://hotwheelsmonstertruckslive.com
CONTACT:215-336-3600
ORGANIZER:Wells Fargo Center
ATTACH;FMTTYPE="image/jpeg":https://storage.ning.com/topology/rest/1.0
 /file/get/12342688895?profile=original
ATTENDEE;ROLE=REQ-PARTICIPANT;PARTSTAT=ACCEPTED;RSVP=TRUE;CN="William 
 Bruce":https://northeastwheelsevents.com/profile/WilliamBruce
END:VEVENT
END:VCALENDAR
