BEGIN:VCALENDAR
PRODID:NingEventWidget-v1
VERSION:2.0
METHOD:PUBLISH
BEGIN:VEVENT
UID:5167423:Event:60942
DTSTAMP:20260423T141330Z
SUMMARY:HotRod Garage Cruise
DESCRIPTION:Free Cruise\nTrophies, Door Prizes,\nPizza\n\nHotRod Garag
 e\n309A Salina Rd.\nSewell,NJ. 08080\n856-417-2669\ne-mail infohotrodg
 arage@yahoo.com\n\nFor more information visit https://northeastwheelse
 vents.com/events/hotrod-garage-cruise
DTSTART:20141123T170000Z
DTEND:20141123T200000Z
CATEGORIES:cruise
LOCATION:HotRod Garage
WEBSITE:http://www.hotrodgaragenj.com
URL:http://www.hotrodgaragenj.com
CONTACT:1-856-417-2669
ORGANIZER;CN="Dan HotRod Garage":https://northeastwheelsevents.com/pro
 file/DanHotRodGarage
ATTACH;FMTTYPE="image/jpeg":
ATTENDEE;ROLE=REQ-PARTICIPANT;PARTSTAT=ACCEPTED;RSVP=TRUE;CN="Dan HotR
 od Garage":https://northeastwheelsevents.com/profile/DanHotRodGarage
END:VEVENT
END:VCALENDAR
