BEGIN:VCALENDAR
PRODID:NingEventWidget-v1
VERSION:2.0
METHOD:PUBLISH
BEGIN:VEVENT
UID:5167423:Event:16220
DTSTAMP:20260421T185531Z
SUMMARY:Howard Co Fairgrounds Motorcycle swap meet and show
DESCRIPTION:Apple Mountain Productions presents Howard Mountain Fairgr
 ounds Motorcycle swap meet and show. Fun, affordable swapmeet. The way
  they used to be and still should be Doors open at 10am.Early birds we
 lcome. Set up times: Sat 2-9pm, Sun 5-9am.\nRain or shine, heated indo
 or building. Free parking\n\nFor more information visit https://northe
 astwheelsevents.com/events/howard-co-fairgrounds-motorcycle-swap-meet-
 and-show
DTSTART:20130127T150000Z
DTEND:20130127T230000Z
CATEGORIES:motorcycle, show, and, swap, meet
LOCATION:Howard County Fairgrounds, West Friendship, MD
WEBSITE:http://www.eastcoaststurgis.com/applemountainproductionspresen
 ts/
URL:http://www.eastcoaststurgis.com/applemountainproductionspresents/
CONTACT:301 478-3421
ORGANIZER:Apple Mountain Productions
ATTACH;FMTTYPE="image/jpeg":http://storage.ning.com/topology/rest/1.0/
 file/get/2284049418?profile=original
ATTENDEE;ROLE=REQ-PARTICIPANT;PARTSTAT=ACCEPTED;RSVP=TRUE;CN="Jesse Fa
 lkenberg":https://northeastwheelsevents.com/profile/JesseFalkenberg
ATTENDEE;ROLE=REQ-PARTICIPANT;PARTSTAT=ACCEPTED;RSVP=TRUE;CN="Pamela H
 irschhorn":https://northeastwheelsevents.com/profile/PamelaHirschhorn
END:VEVENT
END:VCALENDAR
