BEGIN:VCALENDAR
PRODID:NingEventWidget-v1
VERSION:2.0
METHOD:PUBLISH
BEGIN:VEVENT
UID:5167423:Event:62312
DTSTAMP:20260422T225928Z
SUMMARY:Ice Cream Demonstration by Ice Cream Lab
DESCRIPTION:Ice Cream Demonstration by Ice Cream Lab - Reservations Su
 ggested 610-432-4200 x14\n\nFOR MORE INFO PLEASE GO TO: http://americ
 aonwheels.org/\n\nFor more information visit https://northeastwheelsev
 ents.com/events/ice-cream-demonstration-by-ice-cream-lab
DTSTART:20141221T180000Z
DTEND:20141221T190000Z
CATEGORIES:holiday, exhibit, events, family, kids, fun, trains, museum
LOCATION:America On Wheels Museum
WEBSITE:http://americaonwheels.org/
URL:http://americaonwheels.org/
CONTACT:610-432-4200
ORGANIZER;CN="America On Wheels Museum":https://northeastwheelsevents.
 com/profile/americaonwheels
ATTACH;FMTTYPE="image/jpeg":http://storage.ning.com/topology/rest/1.0/
 file/get/2284064587?profile=original
ATTENDEE;ROLE=REQ-PARTICIPANT;PARTSTAT=ACCEPTED;RSVP=TRUE;CN="America 
 On Wheels Museum":https://northeastwheelsevents.com/profile/americaonw
 heels
END:VEVENT
END:VCALENDAR
