BEGIN:VCALENDAR
PRODID:NingEventWidget-v1
VERSION:2.0
METHOD:PUBLISH
BEGIN:VEVENT
UID:5167423:Event:242253
DTSTAMP:20260423T133517Z
SUMMARY:IMMANUEL UNITED METHODIST CHURCH, Cleona, PA
DESCRIPTION:Public%20Flyer%20PDF%20%281%29.pdf\n\nFor more information
  visit https://northeastwheelsevents.com/events/immanuel-united-method
 ist-church
DTSTART:20190608T160000Z
DTEND:20190608T200000Z
CATEGORIES:3rd, annual, car, show
LOCATION:IMMANUEL UNITED METHODIST CHURCH
WEBSITE:https://goo.gl/maps/mpNcUKYcQzm
URL:https://goo.gl/maps/mpNcUKYcQzm
CONTACT:7178052826
ORGANIZER:I.U.M.C. CAR SHOW CHAIRMAN
ATTACH;FMTTYPE="image/jpeg":https://storage.ning.com/topology/rest/1.0
 /file/get/1894621844?profile=original
ATTENDEE;ROLE=REQ-PARTICIPANT;PARTSTAT=ACCEPTED;RSVP=TRUE;CN="Blaine M
 cKivison":https://northeastwheelsevents.com/profile/BlaineMcKivison
ATTENDEE;ROLE=REQ-PARTICIPANT;PARTSTAT=ACCEPTED;RSVP=TRUE;CN="CHRIS HA
 CKMAN":https://northeastwheelsevents.com/profile/CHRISHACKMAN
END:VEVENT
END:VCALENDAR
