BEGIN:VCALENDAR
PRODID:NingEventWidget-v1
VERSION:2.0
METHOD:PUBLISH
BEGIN:VEVENT
UID:5167423:Event:324324
DTSTAMP:20260420T032504Z
SUMMARY:IPMS/USA BlizzCon 2024 Scale Model Show
DESCRIPTION:IPMS/USA BlizzCon Scale Model  Show and Swap Meet is bac
 k. Same location, same time, same rules. Vendors, Contest, and Raffle.
  Saturday, Febuary 24, 2024. Buy, sell or trade! Check website for Adm
 ission, info. and 8ft. Vendors tables. Event is sponsored by the IPMS 
 Eddie Rickenbacker Scale Modelers Chapter. Meet this year is at the M
 ikoy Center, 5462 Center Street, Hilliard, Ohio 43026. Call 614-578-20
 84, email IPMSColumbus@gmail.com for entry, vendor, spectator and clu
 b information. Check website, https://ipmsusa.org for more info. Also 
 check for full 2024 schedule of events. \n\nFor more information visi
 t https://northeastwheelsevents.com/events/imps-usa-blizzcon-2024-scal
 e-model-show
DTSTART:20240224T140000Z
DTEND:20240224T210000Z
CATEGORIES:swap, meet, scale, model, show
LOCATION:Makoy Center
WEBSITE:https://ipmsusa.org/event/blizzcon-2024
URL:https://ipmsusa.org/event/blizzcon-2024
CONTACT:1-614-578-2084
ORGANIZER:T. J. Misiolek
ATTACH;FMTTYPE="image/jpeg":https://storage.ning.com/topology/rest/1.0
 /file/get/12357847076?profile=original
ATTENDEE;ROLE=REQ-PARTICIPANT;PARTSTAT=ACCEPTED;RSVP=TRUE;CN="William 
 Bruce":https://northeastwheelsevents.com/profile/WilliamBruce
END:VEVENT
END:VCALENDAR
