BEGIN:VCALENDAR
PRODID:NingEventWidget-v1
VERSION:2.0
METHOD:PUBLISH
BEGIN:VEVENT
UID:5167423:Event:347349
DTSTAMP:20260425T222558Z
SUMMARY:Indoor Vendors Show.
DESCRIPTION: The Indoor Vendor Show, hosted by Coudersport  Car Show
 s, will take place on Saturday, December 13, 2025, from 9:00 AM to 3:0
 0 PM. The event will be held at the Gunzburger Building Gym, located a
 t 1 North Main Street, Coudersport, PA 16915.\r\nMusic and Food availa
 ble. \r\n Interested vendors can participate by contacting the vendo
 r coordinator, China Colwell, at ccolwell@coudersportcarshows.com or v
 ia text/call at 814-320-3523. The cost to be a vendor is $22. For any 
 questions regarding the vendor show, reach out to China Colwell using 
 the provided contact information.\n\nFor more information visit https:
 //northeastwheelsevents.com/events/indoor-vendors-show
DTSTART:20251213T140000Z
DTEND:20251213T200000Z
CATEGORIES:vendors, swap-meet
LOCATION:Gunzburger Building Gym,
WEBSITE:http://Carcruisefinder.com
URL:http://Carcruisefinder.com
CONTACT:814-320-3523
ORGANIZER:Coudersport Car Shows
ATTACH;FMTTYPE="image/jpeg":https://storage.ning.com/topology/rest/1.0
 /file/get/31016853886?profile=original
ATTENDEE;ROLE=REQ-PARTICIPANT;PARTSTAT=ACCEPTED;RSVP=TRUE;CN="William 
 Bruce":https://northeastwheelsevents.com/profile/WilliamBruce
END:VEVENT
END:VCALENDAR
