BEGIN:VCALENDAR
PRODID:NingEventWidget-v1
VERSION:2.0
METHOD:PUBLISH
BEGIN:VEVENT
UID:5167423:Event:64454
DTSTAMP:20260422T043109Z
SUMMARY:International Museum Day
DESCRIPTION:Discounted Admission $7.00/Adults\n\nFor more information 
 visit https://northeastwheelsevents.com/events/international-museum-da
 y
DTSTART:20150515T140000Z
DTEND:20150515T200000Z
CATEGORIES:cars, museum, family, seniors, kids
LOCATION:America On Wheels
WEBSITE:http://americaonwheels.org/
URL:http://americaonwheels.org/
CONTACT:610-432-4200
ORGANIZER;CN="America On Wheels Museum":https://northeastwheelsevents.
 com/profile/americaonwheels
ATTACH;FMTTYPE="image/jpeg":http://storage.ning.com/topology/rest/1.0/
 file/get/2284065500?profile=original
ATTENDEE;ROLE=REQ-PARTICIPANT;PARTSTAT=ACCEPTED;RSVP=TRUE;CN="America 
 On Wheels Museum":https://northeastwheelsevents.com/profile/americaonw
 heels
END:VEVENT
END:VCALENDAR
