BEGIN:VCALENDAR
PRODID:NingEventWidget-v1
VERSION:2.0
METHOD:PUBLISH
BEGIN:VEVENT
UID:5167423:Event:46315
DTSTAMP:20260425T105233Z
SUMMARY:International Station Wagon Club Convention and Show
DESCRIPTION:The ISWC will hold its 2014 annual show/ convention in Dov
 er, Delaware, June 24 to June 28, 2014, at the Hampton Inn, 1568 N. D
 uPont Hwy, Dover, Delaware 19901. The show will be held on the grounds
  of the Hotel on Saturday, June 28nd from noon to 4:00 pm. Although, 
 the show is scheduled for Saturday June 28th, activities for both the 
 avid car enthusiast and their family will be scheduled throughout the 
 week. Activities begin Tuesday, June 24th , with dinner at a local res
 taurant located just a few minutes from the Hotel. The official itiner
 ary begins Wednesday, June 25th , with a cruise to the Delaware State 
 Police Museum. From there we will move on to lunch on the Dupont Hwy. 
 Then we are off to the Air Mobility Command Museum. Wednesday evening 
 has been reserved for those wishing to continue the Annual Go Kart Cha
 llenge at a local track. On Thursday, June 26th, members will cruise t
 o Lewes, Delaware and board the Lewes-Cape May ferry for a trip across
  the Delaware Bay. This is a day long event. You are on your own for l
 unch in Cape May. Cape May offers shopping, sight seeing tours and so 
 much more. Additional information will be available. Friday, June 27st
   begins with our annual business meeting in the hospitality room of 
 the host hotel. Following the meeting, we will gather for a trip to th
 e  Auburn Heights Steam Car and Mansion Museums. Friday evening we wi
 ll be cruising to a nearby restaurant.\n\nFor more information visit h
 ttps://northeastwheelsevents.com/events/international-station-wagon-cl
 ub-convention-and-show
DTSTART:20140624T040000Z
DTEND:20140629T035900Z
CATEGORIES:convention, and, show
LOCATION:Hampton Inn,
WEBSITE:http://www.iswcstationwagon.org
URL:http://www.iswcstationwagon.org
CONTACT:724-586-7187
ORGANIZER;CN="Chuck Snyder":https://northeastwheelsevents.com/profile/
 ChuckSnyder
ATTACH;FMTTYPE="image/jpeg":
ATTENDEE;ROLE=REQ-PARTICIPANT;PARTSTAT=ACCEPTED;RSVP=TRUE;CN="Chuck Sn
 yder":https://northeastwheelsevents.com/profile/ChuckSnyder
END:VEVENT
END:VCALENDAR
