BEGIN:VCALENDAR
PRODID:NingEventWidget-v1
VERSION:2.0
METHOD:PUBLISH
BEGIN:VEVENT
UID:5167423:Event:656
DTSTAMP:20260424T021040Z
SUMMARY:In-Vette-Tatoinal
DESCRIPTION:Corvette show.\n\n$20.00 7/2/10\n$25.00 show\n\nFor more i
 nformation visit https://northeastwheelsevents.com/events/invettetatoi
 nal-1
DTSTART:20100710T130000Z
DTEND:20100710T190000Z
CATEGORIES:fundraiser
LOCATION:Bob Fisher Chevrolet
WEBSITE:
URL:
CONTACT:
ORGANIZER;CN="wayne scott":https://northeastwheelsevents.com/profile/w
 aynescott
ATTACH;FMTTYPE="image/jpeg":
ATTENDEE;ROLE=REQ-PARTICIPANT;PARTSTAT=ACCEPTED;RSVP=TRUE;CN="wayne sc
 ott":https://northeastwheelsevents.com/profile/waynescott
END:VEVENT
END:VCALENDAR
