BEGIN:VCALENDAR
PRODID:NingEventWidget-v1
VERSION:2.0
METHOD:PUBLISH
BEGIN:VEVENT
UID:5167423:Event:310757
DTSTAMP:20260423T002934Z
SUMMARY:Iron Dukes' Car Show
DESCRIPTION:P.LUXE presents to you the Iron Dukes car show, with proce
 eds benefitting the Marlboro High School Iron Dukes Football Team. Thi
 s year our event will take place on Sunday, May 21st from 12-6pm at Cl
 uett Schantz Memorial Park in Milton, NY.\n\nREGISTER HERE:\nhttps://t
 ickets.thefoat.com/pluxe/Iron+Dukes+Car+Show+Fundraiser/tickets/id-bK3
 _7s1XMQ-3/\n\nLocation:Cluett Schantz Memorial Park1801-1805 Rte 9W, M
 ilton NY 12547Registration is now open! Motorcycles are also permitted
  to attend!Judged Categories:TBAEvent Activities and Competitions:TBAS
 ponsors & Vendors:TBAGENERAL ADMISSION PARKING:Anyone not showing thei
 r car in the event and attending with a General Admission ticket will 
 park at Milton Hardware & Building Supply, located just outside the pa
 rk at 1837 Rte 9W, Milton, NY 12547.Please respect this venue by not d
 rinking or bringing alcohol/drugs, burning out, drifting, damaging pro
 perty, racing or needlessly revving when not in two step competition. 
 Milton/Marlboro PD and Event Coordinators reserve the right to remove 
 you from the event without a refund if you do not adhere to these rule
 s.No refunds. Our refund policy can be found here:https://www.thefoat.
 com/fa/ticketbuy-refund_policy/host-pluxe\n\nFor more information visi
 t https://northeastwheelsevents.com/events/iron-dukes-car-show
DTSTART:20230521T160000Z
DTEND:20230521T220000Z
CATEGORIES:fundraiser, for, the, high, school, football, team
LOCATION:Cluett Schantz Memorial Park
WEBSITE:https://tickets.thefoat.com/pluxe/Iron+Dukes+Car+Show+Fundrais
 er/tickets/id-bK3_7s1XMQ-3/
URL:https://tickets.thefoat.com/pluxe/Iron+Dukes+Car+Show+Fundraiser/t
 ickets/id-bK3_7s1XMQ-3/
CONTACT:
ORGANIZER;CN="Lami Kim":https://northeastwheelsevents.com/profile/Lami
 Kim138
ATTACH;FMTTYPE="image/jpeg":https://storage.ning.com/topology/rest/1.0
 /file/get/10961882698?profile=original
ATTENDEE;ROLE=REQ-PARTICIPANT;PARTSTAT=ACCEPTED;RSVP=TRUE;CN="Lami Kim
 ":https://northeastwheelsevents.com/profile/LamiKim138
END:VEVENT
END:VCALENDAR
