BEGIN:VCALENDAR
PRODID:NingEventWidget-v1
VERSION:2.0
METHOD:PUBLISH
BEGIN:VEVENT
UID:5167423:Event:246113
DTSTAMP:20260420T233916Z
SUMMARY:Italian American Heritage Festival
DESCRIPTION:June 2, 2019\nItalian American Heritage Festival & Italian
  Car Show\n\nItalian Food, Music and Entertainment\n\n\nFor more infor
 mation visit https://northeastwheelsevents.com/events/italian-american
 -heritage-festival-1
DTSTART:20190602T150000Z
DTEND:20190602T220000Z
CATEGORIES:charity, fundraiser
LOCATION:Rose Tree Park, Media, PA
WEBSITE:http://www.Ciaodelco.org
URL:http://www.Ciaodelco.org
CONTACT:
ORGANIZER;CN="Pat Carzo":https://northeastwheelsevents.com/profile/Pat
 Carzo
ATTACH;FMTTYPE="image/jpeg":
ATTENDEE;ROLE=REQ-PARTICIPANT;PARTSTAT=ACCEPTED;RSVP=TRUE;CN="Pat Carz
 o":https://northeastwheelsevents.com/profile/PatCarzo
END:VEVENT
END:VCALENDAR
